BEGIN:VCALENDAR
VERSION:2.0
PRODID:-//Jugendwerk Heiden - ECPv6.15.20//NONSGML v1.0//EN
CALSCALE:GREGORIAN
METHOD:PUBLISH
X-ORIGINAL-URL:https://www.jugendwerk-heiden.de
X-WR-CALDESC:Veranstaltungen für Jugendwerk Heiden
REFRESH-INTERVAL;VALUE=DURATION:PT1H
X-Robots-Tag:noindex
X-PUBLISHED-TTL:PT1H
BEGIN:VTIMEZONE
TZID:Europe/Berlin
BEGIN:DAYLIGHT
TZOFFSETFROM:+0100
TZOFFSETTO:+0200
TZNAME:CEST
DTSTART:20250330T010000
END:DAYLIGHT
BEGIN:STANDARD
TZOFFSETFROM:+0200
TZOFFSETTO:+0100
TZNAME:CET
DTSTART:20251026T010000
END:STANDARD
BEGIN:DAYLIGHT
TZOFFSETFROM:+0100
TZOFFSETTO:+0200
TZNAME:CEST
DTSTART:20260329T010000
END:DAYLIGHT
BEGIN:STANDARD
TZOFFSETFROM:+0200
TZOFFSETTO:+0100
TZNAME:CET
DTSTART:20261025T010000
END:STANDARD
BEGIN:DAYLIGHT
TZOFFSETFROM:+0100
TZOFFSETTO:+0200
TZNAME:CEST
DTSTART:20270328T010000
END:DAYLIGHT
BEGIN:STANDARD
TZOFFSETFROM:+0200
TZOFFSETTO:+0100
TZNAME:CET
DTSTART:20271031T010000
END:STANDARD
END:VTIMEZONE
BEGIN:VEVENT
DTSTART;TZID=Europe/Berlin:20260417T153000
DTEND;TZID=Europe/Berlin:20260417T170000
DTSTAMP:20260420T120124
CREATED:20260219T151034Z
LAST-MODIFIED:20260413T054132Z
UID:971-1776439800-1776445200@www.jugendwerk-heiden.de
SUMMARY:🏁🎮 Mario Kart Turnier für Kinder! 🎮🏁
DESCRIPTION:Für Kinder und Jugendlichen  ab 6 Jahre. \nSeid dabei beim spannenden Mario Kart Wettbewerb im Ludgerus Castle!\nHier können alle kleinen Rennfahrer ihr Können zeigen und um den Sieg kämpfen! 🏆 \n🎁 Highlight: Der Gewinner erhält einen tollen Preis! \nSteigt ins Kart\, gebt Gas und erlebt ein aufregendes Rennen voller Spaß und Spannung! 🚗💨 \nWir freuen uns auf euch!
URL:https://www.jugendwerk-heiden.de/veranstaltung/%f0%9f%8f%81%f0%9f%8e%ae-mario-kart-turnier-fuer-kinder-%f0%9f%8e%ae%f0%9f%8f%81/
LOCATION:Ludgerus Castle Heiden\, Velener Straße 29c\, Heiden\, 46359\, Deutschland
CATEGORIES:Alltags AG
END:VEVENT
BEGIN:VEVENT
DTSTART;TZID=Europe/Berlin:20260410T140000
DTEND;TZID=Europe/Berlin:20260410T160000
DTSTAMP:20260420T120124
CREATED:20260219T082319Z
LAST-MODIFIED:20260219T082355Z
UID:968-1775829600-1775836800@www.jugendwerk-heiden.de
SUMMARY:🎨 Graffiti-Malworkshop für Kinder im Ludgerus Castle! 🏰
DESCRIPTION:Für Kinder und Jugendlichen ab 10 Jahren. \nAm 10. April von 14:00 bis 16:00 Uhr können junge Künstler:innen  ihre Kreativität entfalten – nach dem Motto der Künstlerin Oksana Somyk: „Make Art\, not War“! \n💥 Das erwartet euch: \n\nSprühdosen (Spray-Paint) für einen coolen Hintergrund\nStifte\, Acrylfarbe & Schablonen für Details und Motive\n\nGestaltet eure eigene 40×40 cm Leinwand und zeigt\, wie bunt und friedlich Kreativität sein kann! 🌈 \n⚡ Plätze begrenzt auf 15 Teilnehmer:innen – schnell anmelden!
URL:https://www.jugendwerk-heiden.de/veranstaltung/%f0%9f%8e%a8-graffiti-malworkshop-fuer-kinder-im-ludgerus-castle-%f0%9f%8f%b0/
LOCATION:Ludgerus Castle Heiden\, Velener Straße 29c\, Heiden\, 46359\, Deutschland
CATEGORIES:Ferien Aktion
END:VEVENT
BEGIN:VEVENT
DTSTART;TZID=Europe/Berlin:20260409T140000
DTEND;TZID=Europe/Berlin:20260409T170000
DTSTAMP:20260420T120124
CREATED:20260318T142734Z
LAST-MODIFIED:20260409T061347Z
UID:988-1775743200-1775754000@www.jugendwerk-heiden.de
SUMMARY:Tiere-Hotel bauen! 🐦🦔🐞
DESCRIPTION:Für Kinder und Jugendlichen ab 6 Jahre. \nWillst du den Tieren  ein Zuhause schenken und dabei etwas Spannendes lernen?Dann mach mit bei unserer  „Tiere-Hotel bauen“! \nGemeinsam bauen wir:🏠 Vogelhäuser🦔 Igelhäuser🐞 Insektenhotels \n🎨 Sei kreativ und hilf Tieren ein Zuhause zu geben!
URL:https://www.jugendwerk-heiden.de/veranstaltung/tiere-hotel-bauen-%f0%9f%90%a6%f0%9f%a6%94%f0%9f%90%9e/
LOCATION:Ludgerus Castle Heiden\, Velener Straße 29c\, Heiden\, 46359\, Deutschland
CATEGORIES:Ferien Aktion
END:VEVENT
BEGIN:VEVENT
DTSTART;TZID=Europe/Berlin:20260402T120000
DTEND;TZID=Europe/Berlin:20260402T150000
DTSTAMP:20260420T120124
CREATED:20260219T081209Z
LAST-MODIFIED:20260401T131510Z
UID:966-1775131200-1775142000@www.jugendwerk-heiden.de
SUMMARY:🎨 Ostereier bemalen – Kreativer Spaß für Kinder! 🐣
DESCRIPTION:Für Kinder und Jugendlichen ab 6 Jahre. \nAm 2. April 2026 von 12:00 bis 15:00 Uhr im Ludgerus Castle dürfen Kinder und Jugendlichen selbst echte Eier mit bunter Eierfarbe gestalten! 🌈 \nDabei lernen die Kinder nicht nur\, wie man wunderschöne Ostereier zaubert\, sondern auch vorsichtig mit zerbrechlichen Dingen umgeht – eine tolle Übung für Geduld und Feinmotorik. \nEin kreatives Highlight zur Ostervorbereitung\, das Spaß macht und die Fantasie anregt! \n💰 Kosten: nur 2 € pro Kind \nKommt vorbei und lasst die Ostertage bunt werden! 🐰🥚
URL:https://www.jugendwerk-heiden.de/veranstaltung/%f0%9f%8e%a8-ostereier-bemalen-kreativer-spass-fuer-kinder-%f0%9f%90%a3/
LOCATION:Ludgerus Castle Heiden\, Velener Straße 29c\, Heiden\, 46359\, Deutschland
CATEGORIES:Ferien Aktion
END:VEVENT
BEGIN:VEVENT
DTSTART;TZID=Europe/Berlin:20260401T120000
DTEND;TZID=Europe/Berlin:20260401T150000
DTSTAMP:20260420T120124
CREATED:20260219T080522Z
LAST-MODIFIED:20260331T133021Z
UID:964-1775044800-1775055600@www.jugendwerk-heiden.de
SUMMARY:🐰 Osterkekse Backen für Kinder 🐣
DESCRIPTION:Für Kinder ab 6 Jahre . \nBereite dich auf die Ostertage vor – und backe deine eigenen leckeren Osterkekse! \nIn unserem Backangebot dürfen Kinder ab 6 Jahren selbst kreativ werden und ihre eigenen Kekse verzieren. Spaß\, Kreativität und köstliche Ergebnisse garantiert! \n💶 Kosten: 2 € pro Kind \n✨ Melde dich jetzt an! Plätze sind begrenzt – sichere dir deinen Keksplatz!
URL:https://www.jugendwerk-heiden.de/veranstaltung/%f0%9f%90%b0-osterkekse-backen-fuer-kinder-%f0%9f%90%a3/
LOCATION:Ludgerus Castle Heiden\, Velener Straße 29c\, Heiden\, 46359\, Deutschland
CATEGORIES:Ferien Aktion
END:VEVENT
BEGIN:VEVENT
DTSTART;TZID=Europe/Berlin:20260331T120000
DTEND;TZID=Europe/Berlin:20260331T150000
DTSTAMP:20260420T120124
CREATED:20260219T073157Z
LAST-MODIFIED:20260219T073157Z
UID:962-1774958400-1774969200@www.jugendwerk-heiden.de
SUMMARY:🌱✨ Aus Alt macht Neu! – Kreativ & Nachhaltig! ✨🌱
DESCRIPTION:Für Kinder ab 6 Jahre Alt. \nHast du alte T-Shirts zuhause\, die du nicht mehr trägst?Dann bring sie mit und verwandle sie in dein ganz persönliches Lieblingsstück! \nDie Kinder dürfen ihre eigenen alten T-Shirts mitbringen und diese mit einer Transfermaschine und Warmpresse selbst gestalten. \nWähle dein Lieblingsmotiv und bedrucke dein Shirt ganz nach deinen Vorstellungen – einzigartig und kreativ! 🎨👕 \nDabei lernst du spielerisch\, wie wichtig Nachhaltigkeit ist und wie man alten Sachen eine zweite Chance geben kann. Statt wegwerfen heißt es: neu gestalten und weiterverwenden! 🌍♻️ \n💰 Kosten: nur 2 €Mach mit und gestalte dein eigenes Upcycling-Kunstwerk!Wir freuen uns auf dich! 💚
URL:https://www.jugendwerk-heiden.de/veranstaltung/%f0%9f%8c%b1%e2%9c%a8-aus-alt-macht-neu-kreativ-nachhaltig-%e2%9c%a8%f0%9f%8c%b1/
LOCATION:Ludgerus Castle Heiden\, Velener Straße 29c\, Heiden\, 46359\, Deutschland
CATEGORIES:Ferien Aktion
END:VEVENT
BEGIN:VEVENT
DTSTART;TZID=Europe/Berlin:20260330T113000
DTEND;TZID=Europe/Berlin:20260330T143000
DTSTAMP:20260420T120124
CREATED:20260218T102853Z
LAST-MODIFIED:20260219T180857Z
UID:959-1774870200-1774881000@www.jugendwerk-heiden.de
SUMMARY:🚨 Rolli-Führerschein – Mach mit! 🚨
DESCRIPTION:👥 Für Kinder und Jugendliche ab 11 Jahren. \nDu bist mindestens 11 Jahre alt und möchtest etwas Sinnvolles tun? Dann ist unser Rolli-Führerschein genau das Richtige für dich! \n📅 Datum: 30.03.2026\n🕛 Uhrzeit: ab 11:30 Uhr\n📍 Treffpunkt: Ludgerus Castle und von hier gehen wir zum Altenheim St.Josef \n🎯 Was erwartet dich? \n\nRollstuhl richtig fahren lernen\nHindernisse sicher meistern\nEinblick in den Alltag älterer Menschen\nVorbereitung\, um Spaziergänge und Ausflüge mit Senioren zu begleiten\n\n💛 Unser Ziel:\nGemeinsam möchten wir ältere Menschen unterstützen und ihnen mehr Mobilität\, Freude und Gemeinschaft ermöglichen. \n📩 Jetzt anmelden und dabei sein!\nWerde Rolli-Pilot und mach den Unterschied!
URL:https://www.jugendwerk-heiden.de/veranstaltung/%f0%9f%9a%a8-rolli-fuehrerschein-mach-mit-%f0%9f%9a%a8/
LOCATION:Ludgerus Castle Heiden\, Velener Straße 29c\, Heiden\, 46359\, Deutschland
CATEGORIES:Ferien Aktion
END:VEVENT
BEGIN:VEVENT
DTSTART;TZID=Europe/Berlin:20260327T160000
DTEND;TZID=Europe/Berlin:20260327T180000
DTSTAMP:20260420T120124
CREATED:20251204T152402Z
LAST-MODIFIED:20251204T152402Z
UID:941-1774627200-1774634400@www.jugendwerk-heiden.de
SUMMARY:🚒 Besuch bei der Feuerwehr! 🔥
DESCRIPTION:Für alle Kinder und Jugendlichen \nAm 27.03.2026 heißt es: Helm auf und Feuerwehr hautnah erleben!Ab 17:00 Uhr besuchen wir die Feuerwehr und entdecken Fahrzeuge\, Ausrüstung und spannende Einsätze. \nTreffpunkt:🕓 16:00 Uhr im JugendtreffVon dort laufen wir gemeinsam zur Feuerwehr. \nFreut euch auf:✨ Einen Blick hinter die Kulissen der Feuerwehr✨ Infos über Ausrüstung und Aufgaben✨ Spannende Geschichten und Feuerwehr-Action \nSeid dabei und erlebt einen aufregenden Nachmittag voller Feuerwehr-Abenteuer! 🚒🔥
URL:https://www.jugendwerk-heiden.de/veranstaltung/%f0%9f%9a%92-besuch-bei-der-feuerwehr-%f0%9f%94%a5/
LOCATION:Feuerwehr Heiden
CATEGORIES:Alltags AG
END:VEVENT
BEGIN:VEVENT
DTSTART;TZID=Europe/Berlin:20260320T160000
DTEND;TZID=Europe/Berlin:20260320T180000
DTSTAMP:20260420T120124
CREATED:20251204T152100Z
LAST-MODIFIED:20251204T152100Z
UID:939-1774022400-1774029600@www.jugendwerk-heiden.de
SUMMARY:⚽ Fußball-Tag im Jugendtreff! 🥅
DESCRIPTION:Für alle Jungs und Mädchen \nAm 20.03.2026 heißt es: Tore schießen\, Teamgeist zeigen und jede Menge Spaß auf dem Spielfeld!Ab 15:00 Uhr starten wir in spannende Matches – es werden Teams gebildet\, also seid bereit für Action und Fairplay! \nFreut euch auf:✨ Spielerische Challenges & Turniere✨ Spaß\, Bewegung & Teamwork✨ Jede Menge Tore und Spannung \nKommt vorbei\, zeigt euer Können und erlebt einen tollen Fußball-Nachmittag mit Freunden! ⚽🎉
URL:https://www.jugendwerk-heiden.de/veranstaltung/%e2%9a%bd-fussball-tag-im-jugendtreff-%f0%9f%a5%85/
LOCATION:Ludgerus Castle Heiden\, Velener Straße 29c\, Heiden\, 46359\, Deutschland
CATEGORIES:Alltags AG
END:VEVENT
BEGIN:VEVENT
DTSTART;TZID=Europe/Berlin:20260313T150000
DTEND;TZID=Europe/Berlin:20260313T180000
DTSTAMP:20260420T120124
CREATED:20251204T151812Z
LAST-MODIFIED:20251204T151812Z
UID:937-1773414000-1773424800@www.jugendwerk-heiden.de
SUMMARY:🍪 Back-Tag im Jugendtreff! 🎉
DESCRIPTION:Für alle Kinder und Jugendlichen \nAm 13.03.2026 heißt es: Schürze an und ran an den Teig!Ab 15:00 Uhr backen wir gemeinsam leckere Cookies für die „Tag der Vereine“-Veranstaltung. \nFreut euch auf:✨ Gemeinsam Teig kneten\, ausstechen & verzieren✨ Jede Menge Spaß und Kreativität✨ Leckere Cookies zum Mitnehmen oder für unsere Veranstaltung \nKommt vorbei und backt mit uns einen tollen Beitrag für den Tag der Vereine! 🍪💛
URL:https://www.jugendwerk-heiden.de/veranstaltung/%f0%9f%8d%aa-back-tag-im-jugendtreff-%f0%9f%8e%89/
LOCATION:Ludgerus Castle Heiden\, Velener Straße 29c\, Heiden\, 46359\, Deutschland
CATEGORIES:Alltags AG
END:VEVENT
BEGIN:VEVENT
DTSTART;TZID=Europe/Berlin:20260306T150000
DTEND;TZID=Europe/Berlin:20260306T170000
DTSTAMP:20260420T120124
CREATED:20251204T151456Z
LAST-MODIFIED:20251204T151456Z
UID:934-1772809200-1772816400@www.jugendwerk-heiden.de
SUMMARY:🌷 Frühlings-Basteln – Kreativ & Bunt! 🎨
DESCRIPTION:Für alle Kinder und Jugendlichen \nAm 06.03.2026 wird es im Jugendtreff richtig farbenfroh!Ab 15:00 Uhr basteln wir gemeinsam frühlingshafte Deko\, Karten und kreative Kunstwerke. \nFreut euch auf:✨ Bunte Materialien & viel Kreativität✨ Spaß beim Gestalten und Ausprobieren✨ Einen tollen Nachmittag voller Farben und Ideen \nKommt vorbei und lasst den Frühling bei uns einziehen! 🌸🎨
URL:https://www.jugendwerk-heiden.de/veranstaltung/%f0%9f%8c%b7-fruehlings-basteln-kreativ-bunt-%f0%9f%8e%a8/
LOCATION:Ludgerus Castle Heiden\, Velener Straße 29c\, Heiden\, 46359\, Deutschland
CATEGORIES:Alltags AG
END:VEVENT
BEGIN:VEVENT
DTSTART;TZID=Europe/Berlin:20260227T150000
DTEND;TZID=Europe/Berlin:20260227T180000
DTSTAMP:20260420T120124
CREATED:20251204T151206Z
LAST-MODIFIED:20251204T151206Z
UID:932-1772204400-1772215200@www.jugendwerk-heiden.de
SUMMARY:💖 Mädchentag im Jugendtreff! 🌸
DESCRIPTION:Nur für Mädchen – Sei dabei! \nAm 27.02.2026 laden wir alle Mädchen zu einem entspannten und spaßigen Nachmittag ein.Ab 15:00 Uhr erwarten euch tolle Aktivitäten\, kreative Ideen und jede Menge gemeinsame Action! \nFreut euch auf:✨ Kreatives Gestalten & Basteln✨ Spiele & Spaß✨ Zeit zum Quatschen und Lachen \nEin Nachmittag nur für Mädchen – Spaß\, Freundinnen und gute Laune garantiert! 🌷💖
URL:https://www.jugendwerk-heiden.de/veranstaltung/%f0%9f%92%96-maedchentag-im-jugendtreff-%f0%9f%8c%b8/
LOCATION:Ludgerus Castle Heiden\, Velener Straße 29c\, Heiden\, 46359\, Deutschland
CATEGORIES:Alltags AG
END:VEVENT
BEGIN:VEVENT
DTSTART;TZID=Europe/Berlin:20260220T150000
DTEND;TZID=Europe/Berlin:20260220T180000
DTSTAMP:20260420T120124
CREATED:20251204T151011Z
LAST-MODIFIED:20251204T151011Z
UID:930-1771599600-1771610400@www.jugendwerk-heiden.de
SUMMARY:🎲 Gesellschaftsspiele-Tag im Jugendtreff! 🃏
DESCRIPTION:Für alle Kinder und Jugendlichen \nAm 20.02.2026 heißt es: Würfeln\, knobeln und gemeinsam Spaß haben!Ab 15:00 Uhr laden wir zu einem spannenden Nachmittag voller Brett- und Kartenspiele ein. \nFreut euch auf:✨ Klassiker und neue Spiele✨ Teamwork\, Strategie & Spaß✨ Viel Lachen und gemeinsames Spielen \nKommt vorbei und verbringt einen tollen Nachmittag mit Freunden\, Spielspaß und guter Laune! 🎉🎲
URL:https://www.jugendwerk-heiden.de/veranstaltung/%f0%9f%8e%b2-gesellschaftsspiele-tag-im-jugendtreff-%f0%9f%83%8f/
LOCATION:Ludgerus Castle Heiden\, Velener Straße 29c\, Heiden\, 46359\, Deutschland
CATEGORIES:Alltags AG
END:VEVENT
BEGIN:VEVENT
DTSTART;TZID=Europe/Berlin:20260213T150000
DTEND;TZID=Europe/Berlin:20260213T180000
DTSTAMP:20260420T120124
CREATED:20251204T150747Z
LAST-MODIFIED:20251204T150747Z
UID:928-1770994800-1771005600@www.jugendwerk-heiden.de
SUMMARY:🎉 Karnevalsparty im Jugendtreff! 🎭
DESCRIPTION:Für alle Kinder und Jugendlichen \nAm 13.02.2026 heißt es wieder: Helau!Ab 15:00 Uhr starten wir in eine bunte Karnevalsparty voller Musik\, Spaß und guter Laune. \n✨ Wichtig:Kommt verkleidet und bereit\, kräftig Helau zu rufen! Kostüme sind ein Muss\, um richtig in Karnevalsstimmung zu feiern. \nFreut euch auf:🎶 Tanzen & Musik🎲 Spiele & Action🍬 Leckereien & Überraschungen \nFeiert mit uns einen unvergesslichen Karnevalstag! 🎭🎉
URL:https://www.jugendwerk-heiden.de/veranstaltung/%f0%9f%8e%89-karnevalsparty-im-jugendtreff-%f0%9f%8e%ad/
LOCATION:Ludgerus Castle Heiden\, Velener Straße 29c\, Heiden\, 46359\, Deutschland
CATEGORIES:Alltags AG
END:VEVENT
BEGIN:VEVENT
DTSTART;TZID=Europe/Berlin:20260206T150000
DTEND;TZID=Europe/Berlin:20260206T180000
DTSTAMP:20260420T120124
CREATED:20251204T150448Z
LAST-MODIFIED:20251204T150448Z
UID:926-1770390000-1770400800@www.jugendwerk-heiden.de
SUMMARY:🎭 Karneval-Basteln – Kreativ & Bunt! 🎨
DESCRIPTION:Für alle Kinder und Jugendlichen \nAm 06.02.2026 wird’s bei uns richtig kreativ!Ab 15:00 Uhr basteln wir gemeinsam Masken\, Deko\, Accessoires und alles\, was ihr für ein kunterbuntes Karnevalsfest braucht. \nFreut euch auf:✨ viele bunte Materialien✨ kreative Ideen✨ Unterstützung beim Basteln✨ ganz viel Spaß und gute Laune! \nKommt vorbei\, bringt eure Fantasie mit und gestaltet eure eigenen Karnevalskunstwerke! 🎉✨🎭
URL:https://www.jugendwerk-heiden.de/veranstaltung/%f0%9f%8e%ad-karneval-basteln-kreativ-bunt-%f0%9f%8e%a8/
LOCATION:Ludgerus Castle Heiden\, Velener Straße 29c\, Heiden\, 46359\, Deutschland
CATEGORIES:Alltags AG
END:VEVENT
BEGIN:VEVENT
DTSTART;TZID=Europe/Berlin:20260130T150000
DTEND;TZID=Europe/Berlin:20260130T180000
DTSTAMP:20260420T120124
CREATED:20251204T150150Z
LAST-MODIFIED:20251204T150150Z
UID:924-1769785200-1769796000@www.jugendwerk-heiden.de
SUMMARY:🍕 Pizza-Back-Tag im Jugendtreff! 🍕
DESCRIPTION:Für alle Kinder und Jugendlichen \nAm 30.01.2026 heißt es: Schürze an\, Kreativität raus – wir backen gemeinsam leckere Pizzen!Ob klassisch\, kreativ oder verrückt belegt – du entscheidest\, was auf deine Pizza kommt! \n🕒 Start: 15:00 Uhr \nFreut euch auf:✨ frische Zutaten✨ gemeinsames Teigkneten und Belegen✨ viel Spaß und natürlich – leckere selbstgemachte Pizza! \nKommt vorbei und verbringt einen köstlichen\, gemütlichen Nachmittag mit uns! 😄🍕🔥
URL:https://www.jugendwerk-heiden.de/veranstaltung/%f0%9f%8d%95-pizza-back-tag-im-jugendtreff-%f0%9f%8d%95/
LOCATION:Ludgerus Castle Heiden\, Velener Straße 29c\, Heiden\, 46359\, Deutschland
CATEGORIES:Alltags AG
END:VEVENT
BEGIN:VEVENT
DTSTART;TZID=Europe/Berlin:20260123T170000
DTEND;TZID=Europe/Berlin:20260123T190000
DTSTAMP:20260420T120124
CREATED:20251204T145903Z
LAST-MODIFIED:20260115T063950Z
UID:921-1769187600-1769194800@www.jugendwerk-heiden.de
SUMMARY:🎙️ Studioführung bei Radio WMW in Borken! 🎧
DESCRIPTION:Für Kinder ab 10 Jahren. Ein Blick hinter die Kulissen – Sei live dabei! \nAm 23.01.2026 erwartet euch ein spannender Ausflug zum Radiosender Radio WMW!Ab 17:00 Uhr dürft ihr einen exklusiven Blick ins Studio werfen und erleben\, wie eine echte Radiosendung entsteht.⏱️ Dauer: ca. 120 Minuten \nTreffpunkt:🕓 16:45 Uhr Heinrich-Hertz-Straße 6\, 46325 Borken. Bitte die Kinder bringen und wieder abholen. Eintritt sind bereits vollständig organisiert! \nTaucht ein in die Welt des Radios – Mikrofone\, Mischpulte\, Musik und vieles mehr!Meldet euch an und sichert euch einen Platz für dieses besondere Erlebnis! 🎉
URL:https://www.jugendwerk-heiden.de/veranstaltung/%f0%9f%8e%99%ef%b8%8f-studiofuehrung-bei-radio-wmw-in-borken-%f0%9f%8e%a7/
LOCATION:Radio WMW Borken
CATEGORIES:Alltags AG
END:VEVENT
END:VCALENDAR